BEGIN:VCALENDAR
VERSION:2.0
PRODID:icalendar-ruby
CALSCALE:GREGORIAN
METHOD:PUBLISH
BEGIN:VEVENT
DTSTAMP:20260425T204619Z
UID:11-135305@cpjasper.com
DTSTART:20260601T220000Z
DTEND:20260606T004500Z
CLASS:PUBLIC
CREATED:20260417T085231
DESCRIPTION:"In him we have redemption through his blood\, the forgiveness 
 of our trespasses\, according to the riches of his grace" (EPHESIANS 1:7).
 \nA former roadside attraction is now full of rusted relics. Some say this
  place is hopeless—but is it?\n\nAs kids see restoration in the junkyard
 \, they’ll explore God’s redemption plan in Scripture to make sense of
  our broken world\, experience His help for today\, and find sure hope for
  the future\nJoin us this year for a great VBS.\nDATE: JUNE 1-5\, 6:00-8:4
 5 PM\nAGES:  4 years old to 6th grade\nREGISTER BY MAY 10 TO RECEIVE A FR
 EE VBS T-SHIRT\n 
LAST-MODIFIED:20260417T085231
LOCATION:CrossPoint Church
SUMMARY:Vacation Bible School
URL;VALUE=URI:https://www.cpjasper.com/events/vacation-bible-school--11/202
 6-06-01
ATTACH;FILENAME=VBS-Logo.png;FMTTYPE=image/png:https://dq5pwpg1q8ru0.cloudf
 ront.net/2026/04/17/12/52/31/dcfa32ab-8562-4ed1-b911-540ed90076d5/VBS-Logo
 .png
END:VEVENT
END:VCALENDAR
